0.35000000000000187
0.00000000000000000
0.00000000000000000
-0.34999999999999998
321660.42636593000000000
3243644.03899325990000000
