0.35000000000000187
0.00000000000000000
0.00000000000000000
-0.35000000000002773
322560.56803785998000000
3244286.69861919990000000
