0.34999999999998876
0.00000000000000000
0.00000000000000000
-0.34999999999998610
323451.38458272000000000
3244978.38150074980000000
