0.34999999999999809
0.00000000000000000
0.00000000000000000
-0.35000000000001391
324405.00889524998000000
3245571.36471890010000000
