0.34999999999996834
0.00000000000000000
0.00000000000000000
-0.34999999999997228
325352.69695039000000000
3246158.89789847010000000
