0.34999999999997194
0.00000000000000000
0.00000000000000000
-0.34999999999997228
326179.61558485997000000
3246920.58613154990000000
