0.35000000000000187
0.00000000000000000
0.00000000000000000
-0.35000000000001391
327151.94885932002000000
3247476.21001115020000000
