0.34999999999999998
0.00000000000000000
0.00000000000000000
-0.35000000000002790
328029.83394749998000000
3248218.14922244010000000
