0.34999999999999587
0.00000000000000000
0.00000000000000000
-0.35000000000002890
353830.97889807000000000
3267582.97455762980000000
