0.35000000000000209
0.00000000000000000
0.00000000000000000
-0.34999999999999998
354848.40700924001000000
3268027.88084257020000000
