0.34999999999999998
0.00000000000000000
0.00000000000000000
-0.34999999999999998
355870.38045062998000000
3268489.12797614000000000
