0.34999999999996656
0.00000000000000000
0.00000000000000000
-0.34999999999997100
356888.25090758997000000
3268960.43321878000000000
