0.34999999999997267
0.00000000000000000
0.00000000000000000
-0.34999999999997095
357974.38943625003000000
3269290.81020449010000000
