0.34999999999999998
0.00000000000000000
0.00000000000000000
-0.35000000000001441
358994.98435912997000000
3269722.76926926990000000
