0.34999999999998765
0.00000000000000000
0.00000000000000000
-0.34999999999998560
360010.26080132002000000
3270189.99407876000000000
