0.35000000000000209
0.00000000000000000
0.00000000000000000
-0.34999999999999998
361014.94029326999000000
3270691.59130501980000000
