0.34999999999997089
0.00000000000000000
0.00000000000000000
-0.34999999999997111
362091.55164691998000000
3271055.09690940990000000
