0.34999999999999998
0.00000000000000000
0.00000000000000000
-0.35000000000001441
363108.13724364998000000
3271514.46295183990000000
