0.34999999999998743
0.00000000000000000
0.00000000000000000
-0.34999999999998549
364132.48191510001000000
3271977.46391290990000000
