0.35000000000000420
0.00000000000000000
0.00000000000000000
-0.35000000000002907
365247.13422434003000000
3272257.60654743020000000
