0.35000000000000414
0.00000000000000000
0.00000000000000000
-0.35000000000002895
365336.01183835999000000
3273911.99607789000000000
