0.34999999999999998
0.00000000000000000
0.00000000000000000
-0.35000000000001441
364267.29075910000000000
3273531.61453660020000000
