0.35000000000000403
0.00000000000000000
0.00000000000000000
-0.34999999999999998
363244.89262941998000000
3273076.79786959990000000
