0.34999999999997566
0.00000000000000000
0.00000000000000000
-0.34999999999997128
362274.11897596001000000
3272514.89026873980000000
