0.34999999999999792
0.00000000000000000
0.00000000000000000
-0.34999999999999998
361215.69091075001000000
3272166.72102880990000000
