0.34999999999999798
0.00000000000000000
0.00000000000000000
-0.35000000000001436
360109.93696348002000000
3271859.22847916000000000
