0.34999999999999598
0.00000000000000000
0.00000000000000000
-0.34999999999999998
359105.62200782000000000
3271350.31996600000000000
