0.34999999999999593
0.00000000000000000
0.00000000000000000
-0.34999999999999998
358101.71275185002000000
3270867.62737184020000000
