0.34999999999998155
0.00000000000000000
0.00000000000000000
-0.34999999999998560
357039.26212015998000000
3270481.33163643020000000
