0.34999999999997133
0.00000000000000000
0.00000000000000000
-0.34999999999997111
355035.88264776999000000
3269479.86122353980000000
