0.34999999999997272
0.00000000000000000
0.00000000000000000
-0.34999999999997083
353993.68185191997000000
3269066.56415412020000000
