0.34999999999999565
0.00000000000000000
0.00000000000000000
-0.34999999999999998
326626.67466070002000000
3246129.26292937990000000
