0.35000000000000436
0.00000000000000000
0.00000000000000000
-0.35000000000002285
326584.75857094000000000
3247253.84410149000000000
