0.34999999999995246
0.00000000000000000
0.00000000000000000
-0.34999999999995463
326560.22773022001000000
3248379.13955585980000000
