0.34999999999999570
0.00000000000000000
0.00000000000000000
-0.34999999999999998
326489.23839421000000000
3249500.94334304010000000
