0.34999999999999998
0.00000000000000000
0.00000000000000000
-0.35000000000004572
326447.28485793999000000
3250606.83692362020000000
