0.34999999999999998
0.00000000000000000
0.00000000000000000
-0.35000000000002784
308274.70167093998000000
3236219.72641461020000000
