0.35000000000000192
0.00000000000000000
0.00000000000000000
-0.35000000000001391
309213.13402658002000000
3236828.69924296020000000
