0.34999999999999049
0.00000000000000000
0.00000000000000000
-0.34999999999998610
310151.99943382997000000
3237436.29020474990000000
