0.34999999999996972
0.00000000000000000
0.00000000000000000
-0.34999999999997217
311055.69757994998000000
3238097.73331655000000000
