0.34999999999997539
0.00000000000000000
0.00000000000000000
-0.34999999999997217
317559.03749467997000000
3242517.92721890980000000
