0.34999999999999998
0.00000000000000000
0.00000000000000000
-0.35000000000002779
318463.31573209999000000
3243175.68972543020000000
