0.35000000000000381
0.00000000000000000
0.00000000000000000
-0.34999999999999998
319384.81020990998000000
3243821.92508558000000000
