0.34999999999999809
0.00000000000000000
0.00000000000000000
-0.35000000000002779
320360.51753016998000000
3244377.32076343010000000
