0.34999999999998488
0.00000000000000000
0.00000000000000000
-0.34999999999998610
321227.59168160998000000
3245103.17678228020000000
