0.34999999999997344
0.00000000000000000
0.00000000000000000
-0.34999999999997217
322166.79110277997000000
3245717.57524032010000000
