0.35000000000000381
0.00000000000000000
0.00000000000000000
-0.34999999999999998
323108.84966751002000000
3246308.42126034990000000
