0.35000000000000192
0.00000000000000000
0.00000000000000000
-0.35000000000002790
324022.84945114999000000
3246975.97888763990000000
