0.34999999999996761
0.00000000000000000
0.00000000000000000
-0.34999999999997217
324975.43448087998000000
3247556.37411141020000000
