0.34999999999997516
0.00000000000000000
0.00000000000000000
-0.34999999999997211
325881.12526206998000000
3248228.53452125980000000
